BEGIN:VCALENDAR
VERSION:2.0
PRODID:-//Cykelguide - ECPv6.15.20//NONSGML v1.0//EN
CALSCALE:GREGORIAN
METHOD:PUBLISH
X-ORIGINAL-URL:https://cykelguide.dk
X-WR-CALDESC:Begivenheder for Cykelguide
REFRESH-INTERVAL;VALUE=DURATION:PT1H
X-Robots-Tag:noindex
X-PUBLISHED-TTL:PT1H
BEGIN:VTIMEZONE
TZID:Europe/Copenhagen
BEGIN:DAYLIGHT
TZOFFSETFROM:+0100
TZOFFSETTO:+0200
TZNAME:CEST
DTSTART:20250330T010000
END:DAYLIGHT
BEGIN:STANDARD
TZOFFSETFROM:+0200
TZOFFSETTO:+0100
TZNAME:CET
DTSTART:20251026T010000
END:STANDARD
BEGIN:DAYLIGHT
TZOFFSETFROM:+0100
TZOFFSETTO:+0200
TZNAME:CEST
DTSTART:20260329T010000
END:DAYLIGHT
BEGIN:STANDARD
TZOFFSETFROM:+0200
TZOFFSETTO:+0100
TZNAME:CET
DTSTART:20261025T010000
END:STANDARD
BEGIN:DAYLIGHT
TZOFFSETFROM:+0100
TZOFFSETTO:+0200
TZNAME:CEST
DTSTART:20270328T010000
END:DAYLIGHT
BEGIN:STANDARD
TZOFFSETFROM:+0200
TZOFFSETTO:+0100
TZNAME:CET
DTSTART:20271031T010000
END:STANDARD
END:VTIMEZONE
BEGIN:VEVENT
DTSTART;VALUE=DATE:20260118
DTEND;VALUE=DATE:20260119
DTSTAMP:20260419T204155
CREATED:20260116T102135Z
LAST-MODIFIED:20260116T122451Z
UID:10000005-1768694400-1768780799@cykelguide.dk
SUMMARY:POLKADOT GRAVEL CUP 25/26
DESCRIPTION:Løbsnavn: POLKADOT GRAVEL CUP 25/26Kategori Gravel-cyklingDen 18. januar 2026 \nSted RandbølLæs mere her
URL:https://cykelguide.dk/event/polkadot-gravel-cup-25-26/
CATEGORIES:Gravel-cykling
ATTACH;FMTTYPE=image/jpeg:https://cykelguide.dk/wp-content/uploads/2026/01/Gravel-cykling-6CPTbz.jpg
END:VEVENT
BEGIN:VEVENT
DTSTART;VALUE=DATE:20260118
DTEND;VALUE=DATE:20260119
DTSTAMP:20260419T204155
CREATED:20260116T102135Z
LAST-MODIFIED:20260116T122451Z
UID:10000004-1768694400-1768780799@cykelguide.dk
SUMMARY:ODENSE CYKLEBANE MINDELØBSDAG
DESCRIPTION:Løbsnavn: ODENSE CYKLEBANE MINDELØBSDAGKategori BanecyklingDen 18. januar 2026 \nSted Odense VLæs mere her
URL:https://cykelguide.dk/event/odense-cyklebane-mindeloebsdag/
CATEGORIES:Banecykling
ATTACH;FMTTYPE=image/jpeg:https://cykelguide.dk/wp-content/uploads/2026/01/Banecykling-zJNUrI.jpg
END:VEVENT
BEGIN:VEVENT
DTSTART;VALUE=DATE:20260118
DTEND;VALUE=DATE:20260119
DTSTAMP:20260419T204155
CREATED:20260116T102134Z
LAST-MODIFIED:20260116T122450Z
UID:10000002-1768694400-1768780799@cykelguide.dk
SUMMARY:CHALLENGE CROSS-CUP VI – VEJEN BC
DESCRIPTION:Løbsnavn: CHALLENGE CROSS-CUP VI – VEJEN BCKategori CyklecrossDen 18. januar 2026 \nSted VejenLæs mere her
URL:https://cykelguide.dk/event/challenge-cross-cup-vi-vejen-bc/
CATEGORIES:Cyklecross
ATTACH;FMTTYPE=image/jpeg:https://cykelguide.dk/wp-content/uploads/2026/01/Cyklecross-CFWyBh.jpg
END:VEVENT
BEGIN:VEVENT
DTSTART;VALUE=DATE:20260118
DTEND;VALUE=DATE:20260119
DTSTAMP:20260419T204155
CREATED:20260116T102134Z
LAST-MODIFIED:20260116T122451Z
UID:10000003-1768694400-1768780799@cykelguide.dk
SUMMARY:FRIENDLY GRAVEL RIDE I ROLD SKOV
DESCRIPTION:Løbsnavn: FRIENDLY GRAVEL RIDE I ROLD SKOVKategori Gravel-cyklingDen 18. januar 2026 \nSted SkørpingLæs mere her
URL:https://cykelguide.dk/event/friendly-gravel-ride-i-rold-skov/
CATEGORIES:Gravel-cykling
ATTACH;FMTTYPE=image/jpeg:https://cykelguide.dk/wp-content/uploads/2026/01/Gravel-cykling-6CPTbz.jpg
END:VEVENT
BEGIN:VEVENT
DTSTART;VALUE=DATE:20260117
DTEND;VALUE=DATE:20260118
DTSTAMP:20260419T204155
CREATED:20260116T102134Z
LAST-MODIFIED:20260116T122450Z
UID:10000001-1768608000-1768694399@cykelguide.dk
SUMMARY:CYKLEBØRSEN & KIDS LIGA MTB VINTERCUP #2 HAMMEL (2026)
DESCRIPTION:Løbsnavn: CYKLEBØRSEN & KIDS LIGA MTB VINTERCUP #2 HAMMEL (2026)Kategori MTBDen 17. januar 2026 \nSted HammelLæs mere her
URL:https://cykelguide.dk/event/cykleboersen-kids-liga-mtb-vintercup-2-hammel-2026/
CATEGORIES:MTB
ATTACH;FMTTYPE=image/jpeg:https://cykelguide.dk/wp-content/uploads/2026/01/MTB-BaUlg9.jpg
END:VEVENT
END:VCALENDAR